BEGIN:VCALENDAR
VERSION:2.0
PRODID:-//ChurchDev//Events//EN
CALSCALE:GREGORIAN
METHOD:PUBLISH
BEGIN:VEVENT
UID:4299-20260418@www.gaylordffc.org
SUMMARY:Blended and Blessed Live Stream
DTSTART:20260418T140000Z
DTEND:20260418T203000Z
DESCRIPTION:An event for stepfamily couples\, dating couples with kids\, and those who care about blended families.\\n&nbsp\;\\nGuest speakers include:\\nDavey and Kristi Blackburn\\nRon and Nan Deal\\nBrian Goins\\nGayla Grace\\nKathi Lipp\\nCheryl Shumake\\n\\nhttps://www.gaylordffc.org/events/blended-and-blessed-live-stream/
LOCATION:Gaylord\, MI
URL:https://www.gaylordffc.org/events/blended-and-blessed-live-stream/
DTSTAMP:20260419T194200Z
END:VEVENT
END:VCALENDAR
