BEGIN:VCALENDAR
VERSION:2.0
PRODID:-//ChurchDev//Events//EN
CALSCALE:GREGORIAN
METHOD:PUBLISH
BEGIN:VEVENT
UID:4300-20260420@www.gaylordffc.org
SUMMARY:Women&#8217\;s Community Bible Study
DTSTART:20260420T190000Z
DTEND:20260420T203000Z
DESCRIPTION:https://www.gaylordffc.org/events/womens-community-bible-study/
LOCATION:Gaylord\, MI
URL:https://www.gaylordffc.org/events/womens-community-bible-study/
DTSTAMP:20260419T194133Z
END:VEVENT
END:VCALENDAR
