BEGIN:VCALENDAR
VERSION:2.0
PRODID:-//ChurchDev//Events//EN
CALSCALE:GREGORIAN
METHOD:PUBLISH
BEGIN:VEVENT
UID:4301-20260416@www.gaylordffc.org
SUMMARY:Harmony of the Gospels
DTSTART:20260416T220000Z
DTEND:20260417T000000Z
DESCRIPTION:Have you ever wondered how the Gospels fit together?  They seem to tell the same story\, but in different lighting. Join us every Thursday for a dive into the Gospels\, led by Pastor Josh Angel.   Prayer to follow.\\n\\nhttps://www.gaylordffc.org/events/harmony-of-the-gospels/
LOCATION:Gaylord\, MI
URL:https://www.gaylordffc.org/events/harmony-of-the-gospels/
DTSTAMP:20260419T194134Z
END:VEVENT
END:VCALENDAR
