BEGIN:VCALENDAR
VERSION:2.0
PRODID:-//ChurchDev//Events//EN
CALSCALE:GREGORIAN
METHOD:PUBLISH
BEGIN:VEVENT
UID:4303-20260612@www.gaylordffc.org
SUMMARY:Community Prayer
DTSTART:20260612T230000Z
DTEND:20260613T003000Z
DESCRIPTION:Join us for an evening of prayer as we come together with others from the community to pray for our neighborhoods\, county\, leaders and churches.\\n\\nhttps://www.gaylordffc.org/events/community-prayer-2/
LOCATION:Gaylord\, MI
URL:https://www.gaylordffc.org/events/community-prayer-2/
DTSTAMP:20260419T211709Z
END:VEVENT
END:VCALENDAR
