BEGIN:VCALENDAR
VERSION:2.0
PRODID:-//ChurchDev//Events//EN
CALSCALE:GREGORIAN
METHOD:PUBLISH
BEGIN:VEVENT
UID:4304-20260724@www.gaylordffc.org
SUMMARY:Community Prayer
DTSTART:20260724T230000Z
DTEND:20260725T003000Z
DESCRIPTION:Join us for an evening of prayer as we come together with others from the community to pray for our neighborhoods\, county\, leaders and churches.\\n\\nhttps://www.gaylordffc.org/events/community-prayer-3/
LOCATION:Gaylord\, MI
URL:https://www.gaylordffc.org/events/community-prayer-3/
DTSTAMP:20260419T211616Z
END:VEVENT
END:VCALENDAR
