BEGIN:VCALENDAR
VERSION:2.0
PRODID:-//ChurchDev//Events//EN
CALSCALE:GREGORIAN
METHOD:PUBLISH
BEGIN:VEVENT
UID:4305-20260421@www.gaylordffc.org
SUMMARY:Mom&#8217\;s Fellowship
DTSTART:20260421T140000Z
DTEND:20260421T160000Z
DESCRIPTION:This meet up is for all moms\, including grandmas!  Bring the kids for a time of group play\, conversation and doing this thing we call life together.\\n\\nhttps://www.gaylordffc.org/events/moms-fellowship/
LOCATION:Gaylord\, MI
URL:https://www.gaylordffc.org/events/moms-fellowship/
DTSTAMP:20260419T194200Z
END:VEVENT
END:VCALENDAR
